BEGIN:VCALENDAR
VERSION:2.0
PRODID:-//The Virtual Events Group - ECPv6.15.13.1//NONSGML v1.0//EN
CALSCALE:GREGORIAN
METHOD:PUBLISH
X-WR-CALNAME:The Virtual Events Group
X-ORIGINAL-URL:https://virtualeventsgroup.org
X-WR-CALDESC:Events for The Virtual Events Group
REFRESH-INTERVAL;VALUE=DURATION:PT1H
X-Robots-Tag:noindex
X-PUBLISHED-TTL:PT1H
BEGIN:VTIMEZONE
TZID:UTC
BEGIN:STANDARD
TZOFFSETFROM:+0000
TZOFFSETTO:+0000
TZNAME:UTC
DTSTART:20250101T000000
END:STANDARD
END:VTIMEZONE
BEGIN:VTIMEZONE
TZID:America/Los_Angeles
BEGIN:DAYLIGHT
TZOFFSETFROM:-0800
TZOFFSETTO:-0700
TZNAME:PDT
DTSTART:20250309T100000
END:DAYLIGHT
BEGIN:STANDARD
TZOFFSETFROM:-0700
TZOFFSETTO:-0800
TZNAME:PST
DTSTART:20251102T090000
END:STANDARD
BEGIN:DAYLIGHT
TZOFFSETFROM:-0800
TZOFFSETTO:-0700
TZNAME:PDT
DTSTART:20260308T100000
END:DAYLIGHT
BEGIN:STANDARD
TZOFFSETFROM:-0700
TZOFFSETTO:-0800
TZNAME:PST
DTSTART:20261101T090000
END:STANDARD
BEGIN:DAYLIGHT
TZOFFSETFROM:-0800
TZOFFSETTO:-0700
TZNAME:PDT
DTSTART:20270314T100000
END:DAYLIGHT
BEGIN:STANDARD
TZOFFSETFROM:-0700
TZOFFSETTO:-0800
TZNAME:PST
DTSTART:20271107T090000
END:STANDARD
END:VTIMEZONE
BEGIN:VEVENT
DTSTART;VALUE=DATE:20260106
DTEND;VALUE=DATE:20260108
DTSTAMP:20260424T183616
CREATED:20251231T022453Z
LAST-MODIFIED:20260107T172722Z
UID:987510058-1767657600-1767830399@virtualeventsgroup.org
SUMMARY:CES | Startup Finance Track
DESCRIPTION:Eureka Park at CES 2026 features more than 1\,300 startups from all over the world. The products are sometimes hairbrained and gimmicky\, but oftentimes brilliant.  Walking the halls of Eureka Park is the geek version of being the kid in a candy shop. We’ve created some programming for the Eureka Park stage that every startup will want to hear. Join us to hear how the world of VCs and raising money is changing\, and learn how to avoid squandering those millions when you make it. \n			\n				\n				\n				\n				\n				Connect with Our CES 2026 Startup Finance Speakers \n			\n			\n				\n				\n				\n				\n			\n				\n				\n				\n				\n				\n				\n			\n				\n				\n				\n				\n				\n				\n				\n				\n				\n				\n			\n				\n				\n				\n				\n				\n\n   Hank Thomas\, Founder and Managing Partner\, Strategic Cyber Ventures\n  \n\n   Sonny Vu\, Chief Builder\, Liminal\n  \n\n   Jennie Blumenthal\, CEO\, Corporate Rehab Leadership\n  \n\n   Deborah Jackson\, CEO\, Founder\, Plum Alley Inc.\n  \n\n			\n				\n				\n				\n				\n				\n			\n				\n				\n				\n				\n				\n\n   Dov Moran\, Managing Partner\, Grove ventures\n  \n\n   Leesa Eichberger\, Fractional CMO\, Fractional CMO\n  \n\n   Barry O’Neill\, Partner\, Value Create Ventures\n  \n\n   Larry Li\, Managing Partner\, Amino Capital\n  \n\n   Lockie Andrews\, CEO and Founder\, Catalyzes AI
URL:https://virtualeventsgroup.org/event/ces-startup-finance-track/
CATEGORIES:Live Events
ATTACH;FMTTYPE=image/jpeg:https://virtualeventsgroup.org/wp-content/uploads/2025/12/startuptrack.jpg
END:VEVENT
BEGIN:VEVENT
DTSTART;TZID=UTC:20260106T103000
DTEND;TZID=UTC:20260109T144500
DTSTAMP:20260424T183616
CREATED:20251231T034121Z
LAST-MODIFIED:20260103T033013Z
UID:987510066-1767695400-1767969900@virtualeventsgroup.org
SUMMARY:CES | Creator Space
DESCRIPTION:Connect with Our CES 2026 Creator Space Speakers \n			\n			\n				\n				\n				\n				\n			\n				\n				\n				\n				\n				\n				\n				\n				\n				\n				\n				\n			\n				\n				\n				\n				\n				\nLia Haberman\, Editor\, ICYMI\nJennifer Cho Chief Customer Officer\, CreatorIQ\nRJ Larese\, President\, Sixteenth\nRene Ritchie\, Creator Liaison\, YouTube\n\n			\n			\n				\n				\n				\n				\n				\n				\n				\n				\n				\n				\n			\n				\n				\n				\n				\n				\nAmy Salazar\, EVP Client Services\, Wasserman\nJodie Kennedy\, Chief Revenue Officer\, Spotter\nZack Nelson\, YouTuber\, LG Electronics\nJason Wachter\, Director\, Head of Global Brand Partnerships\, Meta\n\n			\n			\n				\n				\n				\n				\n			\n				\n				\n				\n				\n				\n				\n				\n				\n				\n				\n				\n			\n				\n				\n				\n				\n				\n\n    Avery Akkineni\, Chief Marketing Officer\, VaynerX\n  \n\n    Reesa Lake\, VP\, Head of Creator Agency  Partnerships\, LTK\n  \n\n    Janesha Moore\, Content Creator\, Manychat\n  \n\n    Mckenzie Westmore\, Founder\, Westmore beauty\n  \n\n			\n			\n				\n				\n				\n				\n				\n				\n				\n				\n				\n				\n			\n				\n				\n				\n				\n				\n\n    Jaime Cohen\, Head of Media\, Whalar\n  \n\n    Khudor Annous\, SVP Partnerships\, Orca\n  \n\n    DonYé Taylor\, CEO\, Taylored Consulting\n  \n\n     Jim Shepherd\, Senior Director\, Global Content Partnerships at Snap Inc.\n  \n\n			\n			\n				\n				\n				\n				\n			\n				\n				\n				\n				\n				\n				\n				\n				\n				\n				\n				\n			\n				\n				\n				\n				\n				\n\n    Gabe Michael\, Global SVP\, Group Executive Producer – AI\, Edelman\n  \n\n    Ada Liu\, Lead AI Product Manager\, OpusClip\n  \n\n    Daniel Lum\, Creator\, DLUM CREATIVE LLC\n  \n\n    Matt Wolfe\, Creator\, YouTube\n  \n\n			\n			\n				\n				\n				\n				\n				\n				\n				\n				\n				\n				\n			\n				\n				\n				\n				\n				\n\n    Uptin Saiidi\, Creator & Founder\, @UPTIN\n  \n\n    Lucy Guo\, ceo\, passes\n  \n\n    Colton Potter\, Chief Revenue Officer\, Linus Media Group (Linus Tech Tips)\n  \n\n     Eric Villa\, Head of Content Strategy (The Studio) @ MKBHD
URL:https://virtualeventsgroup.org/event/ces-creator-space/
CATEGORIES:Live Events
ATTACH;FMTTYPE=image/png:https://virtualeventsgroup.org/wp-content/uploads/2025/12/CESCS.png
END:VEVENT
BEGIN:VEVENT
DTSTART;TZID=UTC:20260108T090000
DTEND;TZID=UTC:20260108T114000
DTSTAMP:20260424T183616
CREATED:20251231T031228Z
LAST-MODIFIED:20260108T190911Z
UID:987510063-1767862800-1767872400@virtualeventsgroup.org
SUMMARY:CES | Wearables Track
DESCRIPTION:Connect with Our CES 2026 Wearables Track Speakers \n			\n				\n				\n				\n				\n				\n			\n				\n				\n				\n				\n				\n\n     Walter Greenleaf\, Research & Innovations Director StanfordMedical XR\, Stanford University\n  \n\n     Kia Nazarpour\, Chief Strategy Officer\, Neuranics Limited\n  \n\n     Resh Sidhu\, Senior Director\, Innovation and Developer Marketing\, Snap Inc.\n  \n\n     Wayne Tung\, Co-Founder & Head of Research & Development\, SUITX by Ottobock / Ottobock SE & Co. KGaA\n  \n\n     Swapnil Vats\, Head of Product and Business\, Luna\n  \n\n			\n			\n				\n				\n				\n				\n				\n			\n				\n				\n				\n				\n			\n				\n				\n				\n				\n				\n				\n			\n				\n				\n				\n				\n				\n				\n				\n				\n				\n				\n			\n				\n				\n				\n				\n				\nCathy Hackl\, Tech Futurist/Podcast Host\, Future Dynamics\nClare Tattersall\, Founder/CEO\, Digital Fashion Week\nJoshua To\, VP\, Product Design\, Meta\nMaeve Wang\, Co-founder & CEO\, IAMBIC\n\n			\n			\n				\n				\n				\n				\n				\n			\n				\n				\n				\n				\n			\n				\n				\n				\n				\n				\n				\n			\n				\n				\n				\n				\n				\n				\n				\n				\n				\n				\n			\n				\n				\n				\n				\n				\n\n     LaKisha Greenwade\, Founder & CEO\, Wearable Tech Ventures\n  \n\n     Ramses Alcaide\, CEO\, Neurable\n  \n\n     Michael Hampden\, SVP Content\, Sandbox VR\n  \n\n     Malay Kundu CEO\, Viziverse AI Headsetless VR\n  \n\n     Steven LeBoeuf\, CEO & Co-Founder\, Quellios\, Inc.\n  \n\n     Meredith Perry\, CEO\, Elemind
URL:https://virtualeventsgroup.org/event/ces-wearables-track/
CATEGORIES:Live Events
ATTACH;FMTTYPE=image/jpeg:https://virtualeventsgroup.org/wp-content/uploads/2025/12/WEARABLESTRACK.jpg
END:VEVENT
BEGIN:VEVENT
DTSTART;TZID=America/Los_Angeles:20260108T130000
DTEND;TZID=America/Los_Angeles:20260108T134000
DTSTAMP:20260424T183616
CREATED:20251231T023956Z
LAST-MODIFIED:20260103T031157Z
UID:987510060-1767877200-1767879600@virtualeventsgroup.org
SUMMARY:CES | Retail Track
DESCRIPTION:Connect with Our CES 2026 Retail Track Speakers \n			\n				\n				\n				\n				\n				\n			\n				\n				\n				\n				\n				Deborah Weinswig\, CEO and Founder\, Coresight Research \n			\n			\n				\n				\n				\n				\n				\n			\n				\n				\n				\n				\n			\n				\n				\n				\n				\n				\n				\n				\n				\n				\n				\n				\n			\n				\n				\n				\n				\n				\n\n    Justin Honaman\, Global Head\, Worldwide Retail\, Restaurants & Consumer Goods GTM\, Amazon\n  \n\n    Egan Brinkman\, Managing Director\, Commerce\, Google LLC\n  \n\n    Lynne Kjolso\, VP\, Global Partnerships\, Microsoft Advertising\n  \n\n    Stacy Malone\, VP Global Business Marketing\, Pinterest\n  \n\n    Mattia Miglio\, Senior Director of Business Development and Partnerships\,Alibaba.com\n  \n\n    John Andrews\, CEO\, Cimulate\, Inc.\n  \n\n			\n			\n				\n				\n				\n				\n				\n				\n				\n				\n				\n				\n			\n				\n				\n				\n				\n				\n\n    Val Vacante\, Global Innovator | Top 25 Women in Tech | Founder\, Collabsco | Fast Company Executive Board\n  \n\n    Tamara Bebb\, Chief Executive Officer\, Spectrio\n  \n\n    Patrick Flanagan\, SVP\, Digital Development\, Operations Strategy\, Simon Property Group\n  \n\n    Phil Sage\, Sr Director : Design Innovation\, NA\, PepsiCo Inc\n  \n\n			\n			\n				\n				\n				\n				\n			\n				\n				\n				\n				\n				\n				\n				\n				\n				\n				\n				\n			\n				\n				\n				\n				\n				\n\n    Stacey Shulman\, VP Health\, Education and Consumer Industries\, Intel Corporation\n  \n\n    Glenn Allison\, Vice President\, AI Platforms\, Tractor Supply Company\n  \n\n    Siobhán McFeeney\, SVP\, Technology\, Target\n  \n\n    Stephanie Mansolf\, Vice President Business Development\, Perfect Corp.\n  \n\n    Ashye Marcus\, Global Head of Retail GTM\, Stripe\n  \n\n    Roopi Crowley\, Managing Director Retail & Energy Strategic Accounts\, T-Mobile USA\, Inc.\n  \n\n			\n			\n				\n				\n				\n				\n				\n				\n				\n				\n				\n				\n			\n				\n				\n				\n				\n				\n\n    Kimberly Carney\, Founder & CEO\, The Wires\n  \n\n    Eden Goldberg\, Chief Strategy Officer and Strategy Lead for Marketplace Pulse\, Threecolts\n  \n\n    Krystyna Taheri\, SVP\, Social Commerce\, QVC Group\n  \n\n    Lauren Stevens\, Co-Founder Chief Content Officer\, ORCA\n  \n\n    Adam Domian\, SVP\, Commerce and Owned Audience\, 11:11 Media\n  \n\n    Farah Maloof\, Head of Large Customer Sales (CPG/Retail/Luxury)\, X\n  \n\n    Krystyna Taheri\, SVP\, Social Commerce\, QVC Group
URL:https://virtualeventsgroup.org/event/ces-retail-track/
CATEGORIES:Live Events
ATTACH;FMTTYPE=image/png:https://virtualeventsgroup.org/wp-content/uploads/2025/12/retail-track.png
END:VEVENT
BEGIN:VEVENT
DTSTART;TZID=UTC:20260127T080000
DTEND;TZID=UTC:20260127T190000
DTSTAMP:20260424T183616
CREATED:20250929T031438Z
LAST-MODIFIED:20250929T031441Z
UID:987509954-1769500800-1769540400@virtualeventsgroup.org
SUMMARY:Silicon Valley Video
DESCRIPTION:TransformingEnterprise Video\n\nAI • LIVE • IMMERSIVE\nEvery company is a media company — or it is trying to become one. And the new media capital of the world is Silicon Valley\, where the world’s largest companies are at the vanguard of this technology trend. \nNow in its fourth year\, the Silicon Valley Video Summit (SVVS) is the annual exchange of Enterprise media know-how in your fastest-growing market for media tools and technologies. \nThis one-day event is produced by SVG\, which has served the information needs of the production industry since 2006.
URL:https://virtualeventsgroup.org/event/silicon-valley-video/
CATEGORIES:Live Events
ATTACH;FMTTYPE=image/jpeg:https://virtualeventsgroup.org/wp-content/uploads/2025/09/SVV-Promo1.jpg
END:VEVENT
END:VCALENDAR